BEGIN:VCALENDAR
VERSION:2.0
PRODID:-//Frontierhouse - ECPv6.15.17.1//NONSGML v1.0//EN
CALSCALE:GREGORIAN
METHOD:PUBLISH
X-WR-CALNAME:Frontierhouse
X-ORIGINAL-URL:https://clubhouse.frontierhouse.org
X-WR-CALDESC:Events for Frontierhouse
REFRESH-INTERVAL;VALUE=DURATION:PT1H
X-Robots-Tag:noindex
X-PUBLISHED-TTL:PT1H
BEGIN:VTIMEZONE
TZID:America/Denver
BEGIN:DAYLIGHT
TZOFFSETFROM:-0700
TZOFFSETTO:-0600
TZNAME:MDT
DTSTART:20250309T090000
END:DAYLIGHT
BEGIN:STANDARD
TZOFFSETFROM:-0600
TZOFFSETTO:-0700
TZNAME:MST
DTSTART:20251102T080000
END:STANDARD
BEGIN:DAYLIGHT
TZOFFSETFROM:-0700
TZOFFSETTO:-0600
TZNAME:MDT
DTSTART:20260308T090000
END:DAYLIGHT
BEGIN:STANDARD
TZOFFSETFROM:-0600
TZOFFSETTO:-0700
TZNAME:MST
DTSTART:20261101T080000
END:STANDARD
BEGIN:DAYLIGHT
TZOFFSETFROM:-0700
TZOFFSETTO:-0600
TZNAME:MDT
DTSTART:20270314T090000
END:DAYLIGHT
BEGIN:STANDARD
TZOFFSETFROM:-0600
TZOFFSETTO:-0700
TZNAME:MST
DTSTART:20271107T080000
END:STANDARD
END:VTIMEZONE
BEGIN:VEVENT
DTSTART;TZID=America/Denver:20260501T160000
DTEND;TZID=America/Denver:20260501T180000
DTSTAMP:20260424T023144
CREATED:20260330T172816Z
LAST-MODIFIED:20260330T172816Z
UID:943-1777651200-1777658400@clubhouse.frontierhouse.org
SUMMARY:Birthdays & Bingo along with Dungeon and Dragons
DESCRIPTION:
URL:https://clubhouse.frontierhouse.org/event/birthdays-bingo-along-with-dungeon-and-dragons/
END:VEVENT
BEGIN:VEVENT
DTSTART;TZID=America/Denver:20260501T160000
DTEND;TZID=America/Denver:20260501T180000
DTSTAMP:20260424T023144
CREATED:20260423T202834Z
LAST-MODIFIED:20260423T202834Z
UID:972-1777651200-1777658400@clubhouse.frontierhouse.org
SUMMARY:May's Birthday & Bingo
DESCRIPTION:
URL:https://clubhouse.frontierhouse.org/event/mays-birthday-bingo/
END:VEVENT
BEGIN:VEVENT
DTSTART;TZID=America/Denver:20260502T180000
DTEND;TZID=America/Denver:20260502T220000
DTSTAMP:20260424T023144
CREATED:20260423T202304Z
LAST-MODIFIED:20260423T202304Z
UID:971-1777744800-1777759200@clubhouse.frontierhouse.org
SUMMARY:Greeley Philharmonic Orchestra
DESCRIPTION:Join Dori and the Clubhouse to see the Beethoven to Bernstein Orchestra!
URL:https://clubhouse.frontierhouse.org/event/greeley-philharmonic-orchestra/
END:VEVENT
BEGIN:VEVENT
DTSTART;TZID=America/Denver:20260508T160000
DTEND;TZID=America/Denver:20260508T180000
DTSTAMP:20260424T023144
CREATED:20260423T202941Z
LAST-MODIFIED:20260423T202941Z
UID:973-1778256000-1778263200@clubhouse.frontierhouse.org
SUMMARY:Hunger Games Social
DESCRIPTION:
URL:https://clubhouse.frontierhouse.org/event/hunger-games-social/
END:VEVENT
BEGIN:VEVENT
DTSTART;TZID=America/Denver:20260509T110000
DTEND;TZID=America/Denver:20260509T130000
DTSTAMP:20260424T023144
CREATED:20260423T203046Z
LAST-MODIFIED:20260423T203046Z
UID:974-1778324400-1778331600@clubhouse.frontierhouse.org
SUMMARY:Picnic in the Park
DESCRIPTION:
URL:https://clubhouse.frontierhouse.org/event/picnic-in-the-park/
END:VEVENT
BEGIN:VEVENT
DTSTART;TZID=America/Denver:20260513T070000
DTEND;TZID=America/Denver:20260513T210000
DTSTAMP:20260424T023144
CREATED:20260423T203416Z
LAST-MODIFIED:20260423T203416Z
UID:978-1778655600-1778706000@clubhouse.frontierhouse.org
SUMMARY:ASK Breakfast Fundraiser
DESCRIPTION:
URL:https://clubhouse.frontierhouse.org/event/ask-breakfast-fundraiser/
END:VEVENT
BEGIN:VEVENT
DTSTART;TZID=America/Denver:20260515T160000
DTEND;TZID=America/Denver:20260515T180000
DTSTAMP:20260424T023144
CREATED:20260423T203132Z
LAST-MODIFIED:20260423T203132Z
UID:975-1778860800-1778868000@clubhouse.frontierhouse.org
SUMMARY:Movies and Milkshakes
DESCRIPTION:
URL:https://clubhouse.frontierhouse.org/event/movies-and-milkshakes/
END:VEVENT
BEGIN:VEVENT
DTSTART;TZID=America/Denver:20260522T160000
DTEND;TZID=America/Denver:20260522T180000
DTSTAMP:20260424T023144
CREATED:20260423T203215Z
LAST-MODIFIED:20260423T203215Z
UID:976-1779465600-1779472800@clubhouse.frontierhouse.org
SUMMARY:Game Night
DESCRIPTION:
URL:https://clubhouse.frontierhouse.org/event/game-night/
END:VEVENT
BEGIN:VEVENT
DTSTART;TZID=America/Denver:20260529T160000
DTEND;TZID=America/Denver:20260529T180000
DTSTAMP:20260424T023144
CREATED:20260423T203254Z
LAST-MODIFIED:20260423T203255Z
UID:977-1780070400-1780077600@clubhouse.frontierhouse.org
SUMMARY:Bowling
DESCRIPTION:
URL:https://clubhouse.frontierhouse.org/event/bowling-5/
END:VEVENT
END:VCALENDAR